BEGIN:VCALENDAR
VERSION:2.0
PRODID:-//BRF Gustavslund - ECPv5.2.1//NONSGML v1.0//EN
CALSCALE:GREGORIAN
METHOD:PUBLISH
X-WR-CALNAME:BRF Gustavslund
X-ORIGINAL-URL:https://gustavslund.hsbbrfwebb.se
X-WR-CALDESC:Events for BRF Gustavslund
BEGIN:VTIMEZONE
TZID:Europe/Stockholm
BEGIN:DAYLIGHT
TZOFFSETFROM:+0100
TZOFFSETTO:+0200
TZNAME:CEST
DTSTART:20170326T010000
END:DAYLIGHT
BEGIN:STANDARD
TZOFFSETFROM:+0200
TZOFFSETTO:+0100
TZNAME:CET
DTSTART:20171029T010000
END:STANDARD
END:VTIMEZONE
BEGIN:VEVENT
DTSTART;TZID=Europe/Stockholm:20170529T180000
DTEND;TZID=Europe/Stockholm:20170529T200000
DTSTAMP:20260425T013017
CREATED:20170317T132737Z
LAST-MODIFIED:20170317T132737Z
UID:1110-1496080800-1496088000@gustavslund.hsbbrfwebb.se
SUMMARY:Tillträdesstämma
DESCRIPTION:Den 29/5 är det dags för föreningens första stämma. Det är då du och dina grannar väljer er styrelse som ska sköta föreningen framöver. Kallelse och dagordning med OSA skickas ut separat.\nVälkommen!
URL:https://gustavslund.hsbbrfwebb.se/event/tilltradesstamma/
LOCATION:HSBs kontor\, Ramlösa Brunnshotell\, Folke Bernadottes väg 445\, Ramlösa\, 25657
ATTACH;FMTTYPE=image/jpeg:https://gustavslund.hsbbrfwebb.se/wp-content/uploads/sites/37/2017/03/Gemensamhetsutrymmen_klubba-755.jpg
END:VEVENT
END:VCALENDAR